BEGIN:VCALENDAR
VERSION:2.0
PRODID:-//Volt Europa//Events//EN
CALSCALE:GREGORIAN
METHOD:PUBLISH
BEGIN:VEVENT
UID:pan-european-general-assembly-in-bratislava-1781334000@voltslovensko.or
 g
DTSTAMP:20260421T104913Z
DTSTART;TZID=Europe/Bratislava:20260613T090000
DTEND;TZID=Europe/Bratislava:20260614T160000
SUMMARY:Pan-European General Assembly - in Bratislava!
DESCRIPTION:The next general meeting will be held here in Bratislava on Jun
 e 13-14\, 2026! Volt Europa announced this  in style at the general meeting
  in Frankfurt with 1\,700 Volters. Central Europe is on the brink of crisis
 : democracy is under pressure and our economies are failing to reach their 
 full potential. In October 2026\, Slovakia will hold local and regional ele
 ctions. However\,  this moment also brings a unique opportunity for change 
 – for Slovakia and our entire region . That is why we want the upc
LOCATION:NTC\, Bratislava
URL:https://voltslovakia.org/events/pan-european-general-assembly-in-bratis
 lava
END:VEVENT
END:VCALENDAR
